Workbook

Sheet 작성방법
B2: 작성방법
C5: [Guide 1단계]
C6: ① 기본정보 시트와 과제정보 시트에 근로계약 기초 자료를 입력합니다 ② 입력된 정보를 토대로 활용계획서, 근로계약서, 별첨, 인건비계산 시트가 자동 작성됩니다. ③ 작성된 내역을 확인 한 후 수정사항이 없으면, 소속 부서로 제출하시면 됩니다.
C9: [Guide 2단계] 기본정보 시트 작성방법
C10: ① 세부내역란의 파란색 필드를 작성합니다.(회색필드는 작성하지 않습니다.) ② 4대보험은 근로자의 나이(근로시작일 기준), 내국인/외국인 여부, 근로시간에 따라 자동으로 입력이 됩니다. 다만, 고용보험의 경우 외국인 근로자는 기본설정값이 N이므로 가입을 원하실 경우 Y로 체크 하시면 됩니다. (외국인 근로자는 고용종료 또는 중도퇴사시 발급 받는 비자 유효기간도 소멸되어 본국으로 돌아가는 경우가 대부분으로 고용가입 실익이 없어 보통의 경우 가입하지 않습니다.) 국민연금은 만60세 이상 근로자는 가입되지 않습니다. 주당 근로시간이 15시간 미만인 경우 국민연금, 건강보험은 가입되지 않습니다.(가입불가) ③ 퇴직금은 1년이상 근로시 인건비 지급액의 총1/12을 지급합니다. (단, 주당 근로시간이 15시간 미만인 경우 1년 이상 근로하여도 퇴직금 지급하지 않습니다.) 근로기간 및 근로시간에 따라 적립/적립안함 선택하시면 됩니다.
C13: [Guide 3단계] 과제정보 시트 작성방법
C14: ① 파란색 필드를 작성합니다. ② 근로기간내 급여 정보 ㆍ기간별 급여가 다른경우, 기간별로 급여를 입력합니다.(본인 급여만 입력) 최저임금검증란이 "적합"으로 표시되어야 올바른 급여입니다. 부적합으로 표기 되는경우, 주당 근로시간 대비 급여액이 부족한 것이므로 급여를 높이거나, 근로일수 또는 근로시간을 조정하여 적합이 되도록 편성하시면 되겠습니다. 2023년 최저임금은 주40시간 근로시 월 2,010,580원/시급 9,620원 입니다 ※ 인건비 예산에 따른 월인건비 산출 "월인건비(목표값)" 시트에서 자동계산 제공 ③ 참여과제 정보 ㆍ 인건비를 지급할 과제 정보를 입력합니다. ④ 인건비 지급과제 정보 ㆍ 인건비를 지급할 과제에서 지급할 금액을 입력합니다.(본인 급여만 입력) ㆍ 근로계약 기간내 급여와, 과제별 편성 급여가 일치하면 급여검증란에 "편성액 일치"로 표기가 됩니다. 편성액 불일치가 나오는 경우 기간별 월급여와 기간별 과제편성액을 확인해 보시면 됩니다.
C17: [Guide 4단계] 개인 실수령액 확인
C18: 실제로 통장에 입금되는 금액을 확인하고 싶으신 경우 "개인수령액(시뮬레이션)시트에서 확인해 보실 수 있습니다.
C21: [Guide 5단계] 작성법 관련 문의
C22: ㆍ 작성법 관련 문의 및 서식 오류 알림 산학협력단 박영옥 (02-6490-6393) / oki0909@uos.ac.kr
B24: ※ 양식배포일 : 2023. 05.08

Sheet 기본정보
B2: 근로계약 기본정보
C4: [기본정보] 파란색 필드를 모두 입력해 주세요
C5: 근로자 계약 정보 | F5: 세부내역 | L5: 입력가이드 | N5: 비고
C6: 성명 | F6: 홍길동
C7: 계약서 작성일자 | F7: 20230301 | L7: 숫자만 입력
C8: 주소(거주지) | F8: 주소는 여기
C9: 주민등록번호 | F9: 9212251234567 | L9: 숫자만 입력
C10: 생년월일 | F10: =IF(F9=0,20,19)&MID(F9,1,2)&"-"&MID(F9,3,2)&"-"&MID(F9,5,2) -> 1992-12-25 | L10: 자동입력
C11: 내국인/외국인 | F11: 내국인 | L11: 택1
C12: 전화번호 | F12: 010-1234-1234
C13: 소속 | F13: 도시과학대학 교통공학과
C14: 직위 | F14: 연구교수 | L14: 직위 택1
C15: 근무 장소 | F15: 제1공학과
C16: 근무 시작일 | F16: 20230101 | L16: 숫자만 입력
C17: 근무 종료일 | F17: 20241231 | L17: 숫자만 입력
C18: 근무 시작시작 | F18: 09시 | I18: 00분 | L18: 콤보박스에서 택1
C19: 근무 종료시간 | F19: 18시 | I19: 00분
C20: 휴게 시작시간 | F20: 12시 | I20: 00분 | N20: 일일 4시간 이상 근로시 최소30분 이상 휴게시간 제공 필수
C21: 휴게 종료시간 | F21: 13시 | I21: 00분
C22: 근무 요일 | F22: 월 | G22: 화 | H22: 수 | J22: 목 | K22: 금
F23: Y | G23: Y | H23: Y | J23: Y | K23: Y
C24: 주휴일 | F24: 일요일 | L24: 토요일/일요일 택1
C25: 주당근로시간 | F25: =계산!B26 -> 40 | K25: 시간 | L25: 자동입력
C26: 4대보험 적용여부 | F26: 국민 | G26: 건강 | H26: 고용 | J26: 산재 | L26: 자동입력 | N26: 외국인 고용보험 가입X (임의가입가능) 주당 15시간 미만근로 (국민X, 건강x)
F27: =IF(AND(계산!B29<=60,F25>=15),"Y","N") -> Y | G27: =IF(F25>=15,"Y","N") -> Y | H27: =IF(AND(F11="내국인",계산!B33>=3),"Y","N") -> Y | J27: Y
C28: 퇴직금 적립 선택 | F28: 적립 | L28: 적립, 적립안함 택1 | N28: 재직기간 1년이상이면 퇴직금 지급
C29: 근로자의 업무 | E29: ① | F29: 연구1
E30: ② | F30: 연구2
E31: ③ | F31: 연구3

Sheet 과제정보
B2: 과제정보
B4: 파란색 필드를 입력하세요!(숫자의 경우 숫자만 입력하세요.)
C6: [근로계약 기간 내 급여정보] - | F6: =기본정보!F6 -> 홍길동
C7: 구분 | D7: 지급시작일 | E7: 지급종료일 | F7: 구분 | G7: 지급액(원) | I7: 최저임금검증(자동) | K7: 입력가이드
C8: 1 | D8: 20230101 | E8: 20230630 | F8: 월 | G8: 2010580 | I8: =IF(G8<계산!$E$26,"부적합", "적합") -> 적합 | K8: - 근로자가 받는 급여만 기재(2023년 최저임금 월 2,010,580원/시급 9,620원) (4대보험기관부담분 및 퇴직금 적립액은 포함하지 않습니다) - 기간별 급여가 다른경우 기간별로 입력 - 급여가 일할되는 경우 구분에 "월"을 삭제 <최저임금 검증란이 부적합으로 나오는 경우> ㆍ급여조정 ㆍ근로시간 조정 ㆍ출근일수 조정
C9: 2 | D9: 20230701 | E9: 20231231 | F9: 월 | G9: 3000000 | I9: =IF(G9<계산!$E$26,"부적합", "적합") -> 적합
C10: 3 | I10: =IF(G10<계산!$E$26,"부적합", "적합") -> 부적합
C11: 4 | I11: =IF(G11<계산!$E$26,"부적합", "적합") -> 부적합
C12: 5 | I12: =IF(G12<계산!$E$26,"부적합", "적합") -> 부적합
C13: 6 | I13: =IF(G13<계산!$E$26,"부적합", "적합") -> 부적합
C14: 7 | I14: =IF(G14<계산!$E$26,"부적합", "적합") -> 부적합
C15: 8 | I15: =IF(G15<계산!$E$26,"부적합", "적합") -> 부적합
C17: [참여과제 정보] : 참여과제 기본정보를 기재합니다
C18: 구분 | D18: 과제명 | H18: 지원기관 | J18: 사업명 | K18: 연구책임자 | M18: 연구시작일 | O18: 연구종료일 | P18: 연구비(원)
C19: 1 | D19: 1번과제 | H19: 한국연구재단 | J19: 기초연구실사업 | K19: 김시립 | M19: 20230301 | O19: 20241231 | P19: 95000000
C20: 2 | D20: 2번과제
C21: 3 | D21: 3번과제
C22: 4
C23: 5
C24: 6
C25: 7
C26: 8
C27: 9
C28: 10
C30: [인건비 지급 과제 정보]-파란색 필드에 입력하세요
C31: [편성액 일치가 나오도록 편성해 주세요] | M31: 급여 검증 | P31: =IF(IFERROR(계산!F2,0)+IFERROR(계산!F3,0)+IFERROR(계산!F4,0)+IFERROR(계산!F5,0)+IFERROR(계산!F6,0)+IFERROR(계산!F7,0)+IFERROR(계산!F8,0)+IFERROR(계산!F9,0)=IFERROR('인건비계산(자동)'!E10*'인건비계산(자동)'!I10,0)+IFERROR('인건비계산(자동)'!E11*'인건비계산(자동)'!I11,0)+IFERROR('인건비계산(자동)'!E12*'인건비계산(자동)'!I12,0)+IFERROR('인건비계산(자동)'!E13*'인건비계산(자동)'!I13,0)+IFERROR('인건비계산(자동)'!E14*'인건비계산(자동)'!I14,0)+IFERROR('인건비계산(자동)'!E15*'인건비계산(자동)'!I15,0)+IFERROR('인건비계산(자동)'!E16*'인건비계산(자동)'!I16,0)+IFERROR('인건비계산(자동)'!E17*'인건비계산(자동)'!I17,0)*IFERROR('인건비계산(자동)'!E18*'인건비계산(자동)'!I18,0)+IFERROR('인건비계산(자동)'!E19*'인건비계산(자동)'!I19,0)+IFERROR('인건비계산(자동)'!E20*'인건비계산(자동)'!I20,0)+IFERROR('인건비계산(자동)'!E21*'인건비계산(자동)'!I21,0)+IFERROR('인건비계산(자동)'!E22*'인건비계산(자동)'!I22,0)+IFERROR('인건비계산(자동)'!E23*'인건비계산(자동)'!I23,0)+IFERROR('인건비계산(자동)'!E24*'인건비계산(자동)'!I24,0),"편성액 일치","편성액 불일치") -> 편성액 일치
C33: 구분 | D33: 과제명 | M33: 지급시작일 | O33: 지급종료일 | P33: 지급액(원)
C34: 1 | D34: 1번과제 | M34: 20230101 | O34: 20230630 | P34: 2010580
C35: 2 | D35: 2번과제 | M35: 20230701 | O35: 20230831 | P35: 3000000
C36: 3 | D36: 3번과제 | M36: 20230901 | O36: 20231231 | P36: 2000000
C37: 4 | D37: 3번과제 | M37: 20230901 | O37: 20231231 | P37: 500000
C38: 5 | D38: 3번과제 | M38: 20230901 | O38: 20231231 | P38: 500000
C39: 6 | P39: 0
C40: 7 | P40: 0
C41: 8 | P41: 0
C42: 9 | P42: 0
C43: 10 | P43: 0

Sheet 활용계획서(자동)
A1: [별지서식 2]
A3: =IF(기본정보!F14="연구교수",종류!AD1,종류!AD2) -> 연구교수 활용계획서
A5: 소속기관 | E5: =기본정보!F13 -> 도시과학대학 교통공학과
A6: 활 용 계 획
A7: 인적사항 | C7: 성명 | E7: =기본정보!F6 -> 홍길동 | H7: 주민등록번호 | J7: =기본정보!F9 -> 9212251234567
A8: 담 당 업 무 | B8: 공동연구 | C8: 과제 1 | D8: -지원기관(지원사업) | F8: : | G8: =과제정보!H19&" ("&과제정보!J19&")" -> 한국연구재단 (기초연구실사업)
G9: =과제정보!D19 -> 1번과제
D10: - 과제수행기간 | F10: : | G10: =과제정보!M19 -> 20230301 | I10: ~ | J10: =과제정보!O19 -> 20241231
D11: - 지원금액 | F11: : | G11: =과제정보!P19 -> 95000000
D12: - 총지급금액 | F12: : | G12: =SUMIF('인건비계산(자동)'!$D$10:$D$24,G9,'인건비계산(자동)'!$L$10:$L$24) -> 14395740
C13: 과제 2 | D13: -지원기관(지원사업) | F13: : | G13: =과제정보!H20&" ("&과제정보!J20&")" -> ()
G14: =과제정보!D20 -> 2번과제
D15: - 과제수행기간 | F15: : | G15: =과제정보!M20 -> 0 | I15: ~ | J15: =과제정보!O20 -> 0
D16: - 지원금액 | F16: : | G16: =과제정보!P20 -> 0
D17: - 총지급금액 | F17: : | G17: =SUMIF('인건비계산(자동)'!$D$10:$D$24,G14,'인건비계산(자동)'!$L$10:$L$24) -> 7160000
C18: 과제 3 | D18: -지원기관(지원사업) | F18: : | G18: =과제정보!H21&" ("&과제정보!J21&")" -> ()
G19: =과제정보!D21 -> 3번과제
D20: - 과제수행기간 | F20: : | G20: =과제정보!M21 -> 0 | I20: ~ | J20: =과제정보!O21 -> 0
D21: - 지원금액 | F21: : | G21: =과제정보!P21 -> 0
D22: - 총지급금액 | F22: : | G22: =SUMIF('인건비계산(자동)'!$D$10:$D$24,G19,'인건비계산(자동)'!$L$10:$L$24) -> 14320040
C23: 과제 4 | D23: -지원기관(지원사업) | F23: : | G23: =과제정보!H22&" ("&과제정보!J22&")" -> ()
G24: =과제정보!D22 -> 0
D25: - 과제수행기간 | F25: : | G25: =과제정보!M22 -> 0 | I25: ~ | J25: =과제정보!O22 -> 0
D26: - 지원금액 | F26: : | G26: =과제정보!P22 -> 0
D27: - 총지급금액 | F27: : | G27: =SUMIF('인건비계산(자동)'!$D$10:$D$24,G24,'인건비계산(자동)'!$L$10:$L$24) -> 0
C28: 과제 5 | D28: -지원기관(지원사업) | F28: : | G28: =과제정보!H23&" ("&과제정보!J23&")" -> ()
G29: =과제정보!D23 -> 0
D30: - 과제수행기간 | F30: : | G30: =과제정보!M23 -> 0 | I30: ~ | J30: =과제정보!O23 -> 0
D31: - 지원금액 | F31: : | G31: =과제정보!P23 -> 0
D32: - 총지급금액 | F32: : | G32: =SUMIF('인건비계산(자동)'!$D$10:$D$24,G29,'인건비계산(자동)'!$L$10:$L$24) -> 0
A33: 담 당 업 무 | B33: 공동연구 | C33: 과제 6 | D33: -지원기관(지원사업) | F33: : | G33: =과제정보!H24&" ("&과제정보!J24&")" -> ()
G34: =과제정보!D24 -> 0
D35: - 과제수행기간 | F35: : | G35: =과제정보!M24 -> 0 | I35: ~ | J35: =과제정보!O24 -> 0
D36: - 지원금액 | F36: : | G36: =과제정보!P24 -> 0
D37: - 총지급금액 | F37: : | G37: =SUMIF('인건비계산(자동)'!$D$10:$D$24,G34,'인건비계산(자동)'!$L$10:$L$24) -> 0
C38: 과제 7 | D38: -지원기관(지원사업) | F38: : | G38: =과제정보!H25&" ("&과제정보!J25&")" -> ()
G39: =과제정보!D25 -> 0
D40: - 과제수행기간 | F40: : | G40: =과제정보!M25 -> 0 | I40: ~ | J40: =과제정보!O25 -> 0
D41: - 지원금액 | F41: : | G41: =과제정보!P25 -> 0
D42: - 총지급금액 | F42: : | G42: =SUMIF('인건비계산(자동)'!$D$10:$D$24,G39,'인건비계산(자동)'!$L$10:$L$24) -> 0
C43: 과제 8 | D43: -지원기관(지원사업) | F43: : | G43: =과제정보!H26&" ("&과제정보!J26&")" -> ()
G44: =과제정보!D26 -> 0
D45: - 과제수행기간 | F45: : | G45: =과제정보!M26 -> 0 | I45: ~ | J45: =과제정보!O26 -> 0
D46: - 지원금액 | F46: : | G46: =과제정보!P26 -> 0
D47: - 총지급금액 | F47: : | G47: =SUMIF('인건비계산(자동)'!$D$10:$D$24,G44,'인건비계산(자동)'!$L$10:$L$24) -> 0
C48: 과제 9 | D48: -지원기관(지원사업) | F48: : | G48: =과제정보!H27&" ("&과제정보!J27&")" -> ()
G49: =과제정보!D27 -> 0
D50: - 과제수행기간 | F50: : | G50: =과제정보!M27 -> 0 | I50: ~ | J50: =과제정보!O27 -> 0
D51: - 지원금액 | F51: : | G51: =과제정보!P27 -> 0
D52: - 총지급금액 | F52: : | G52: =SUMIF('인건비계산(자동)'!$D$10:$D$24,G49,'인건비계산(자동)'!$L$10:$L$24) -> 0
C53: 과제10 | D53: -지원기관(지원사업) | F53: : | G53: =과제정보!H28&" ("&과제정보!J28&")" -> ()
G54: =과제정보!D28 -> 0
D55: - 과제수행기간 | F55: : | G55: =과제정보!M28 -> 0 | I55: ~ | J55: =과제정보!O28 -> 0
D56: - 지원금액 | F56: : | G56: =과제정보!P28 -> 0
D57: - 총지급금액 | F57: : | G57: =SUMIF('인건비계산(자동)'!$D$10:$D$24,G54,'인건비계산(자동)'!$L$10:$L$24) -> 0
A58: 기타 (논문지도 등)
A59: 활 용 시기 | D59: =기본정보!F16 -> 20230101 | E59: ~ | F59: =기본정보!F17 -> 20241231
A60: 활용의 필요성(구체적으로 작성 : 별지 작성 가능함)
A61: 위와 같이 제출합니다.
A62: =기본정보!F7 -> 20230301
F63: 소속기관장 | K63: (인)

Sheet 근로계약서(자동)
A1: [별도서식 2-1]
A3: =IF(기본정보!F14="연구교수","연구교수 임용계약서","박사후연구원(Post Doc.) 임용계약서") -> 연구교수 임용계약서
A5: 서울시립대학교 총장(이하 “총장”이라 한다)과 | K5: =기본정보!F6&"(이하 “임용대상자”라 한다)는 다음과 같이 " -> 홍길동(이하 “임용대상자”라 한다)는 다음과 같이
A6: =기본정보!F14&" 임용계약을 체결한다." -> 연구교수 임용계약을 체결한다.
A8: 제1조 | C8: (계약당사자)
C9: (총 장) | G9: 서울시립대학교 총장
C10: (임용대상자) | G10: 성 명 | I10: : | J10: =기본정보!F6 -> 홍길동
G11: 주민등록번호 | I11: : | J11: =기본정보!F9 -> 9212251234567
G12: 주 소 | I12: : | J12: =기본정보!F8 -> 주소는 여기
A13: 제2조 | C13: (소속 및 계약기간)
A14: ① | C14: “임용대상자”의 소속은 | H14: =기본정보!F13 -> 도시과학대학 교통공학과 | O14: 로 한다.
A15: ② | C15: 계약기간은 | G15: =기본정보!F16 -> 20230101 | L15: =기본정보!F17 -> 20241231 | P15: 로 한다.
A16: 제3조 | C16: (근무장소) | F16: ① | G16: “임용대상자”는 본교의 시설을 이용할 수 있다.
A17: ② | B17: 소속기관장은 “임용대상자”에게 업무에 필요한 시설을 제공할 수 있다.
A18: ③ | B18: “임용대상자”의 근무장소는 | H18: =기본정보!F15 -> 제1공학과 | O18: 로 한다.
A19: 제4조 | C19: (업무의 내용) | F19: ① | G19: =기본정보!F29 -> 연구1
F20: ② | G20: =기본정보!F30 -> 연구2
F21: ③ | G21: =기본정보!F31 -> 연구3
A22: 제5조 | C22: (소정근로시간) | G22: =MID(기본정보!F18,1,2)&"시 "&MID(기본정보!I18,1,2)&"분 부터"&MID(기본정보!F19,1,2)&"시 "&기본정보!I19&" 까지" -> 09시 00분 부터18시 00분 까지 | N22: (휴게시간 : | P22: =기본정보!F20&기본정보!I20 -> 12시00분 | R22: ~ | S22: =기본정보!F21&기본정보!I21&")" -> 13시00분)
A23: 제6조 | C23: (근무일 및 휴일) | G23: 매주 | H23: =(IF(기본정보!F23=종류!K1,"월, ","-"))&(IF(기본정보!G23=종류!K1,"화, ","-"))&(IF(기본정보!H23=종류!K1,"수, ","-"))&(IF(기본정보!J23=종류!K1,"목, ","-"))&(IF(기본정보!K23=종류!K1,"금","-")) -> 월, 화, 수, 목, 금 | M23: 일(또는 매일단위) 근무, 주휴일 매주 | S23: =기본정보!F24 -> 일요일
A24: 제7조 | C24: (급여) | F24: ① | G24: "임용대상자"에게 지급할 보수는
F25: ㆍ | G25: =과제정보!D8 -> 20230101 | L25: =과제정보!E8 -> 20230630 | P25: =과제정보!F8 -> 월 | Q25: =과제정보!G8 -> 2010580
F26: ㆍ | G26: =과제정보!D9 -> 20230701 | L26: =과제정보!E9 -> 20231231 | P26: =과제정보!F9 -> 월 | Q26: =과제정보!G9 -> 3000000
F27: ㆍ | G27: =과제정보!D10 -> 0 | L27: =과제정보!E10 -> 0 | P27: =과제정보!F10 -> 0 | Q27: =과제정보!G10 -> 0
F28: ㆍ | G28: =과제정보!D11 -> 0 | L28: =과제정보!E11 -> 0 | P28: =과제정보!F11 -> 0 | Q28: =과제정보!G11 -> 0
F29: ㆍ | G29: =과제정보!D12 -> 0 | L29: =과제정보!E12 -> 0 | P29: =과제정보!F12 -> 0 | Q29: =과제정보!G12 -> 0
F30: ㆍ | G30: =과제정보!D13 -> 0 | L30: =과제정보!E13 -> 0 | P30: =과제정보!F13 -> 0 | Q30: =과제정보!G13 -> 0
F31: ㆍ | G31: =과제정보!D14 -> 0 | L31: =과제정보!E14 -> 0 | P31: =과제정보!F14 -> 0 | Q31: =과제정보!G14 -> 0
F32: ㆍ | G32: =과제정보!D15 -> 0 | L32: =과제정보!E15 -> 0 | P32: =과제정보!F15 -> 0 | Q32: =과제정보!G15 -> 0
G33: (별첨1 참고)으로 하며,상여금 등 별도의 수당은 지급하지 아니한다.
F34: ② | G34: 임금지급일 | I34: : | J34: 근무월 익월 7일 이내(휴일의 경우 전일 지급)
F35: ③ | G35: 지급방법 | I35: : | J35: 근로자 명의 예금통장에 입금
F36: ④ | G36: 건강보험, 고용보험, 국민연금, 산업재해보상보험 등 사회보장성 보험료의 개인부담분 및
G37: 제세공과금은 제1항의 보수에 포함된다.
F38: ⑤ | G38: 1년 이상 계속 근로한 경우 퇴직금을 지급하며, 최종 계약기간이 끝난 후 임용계약기간 중
G39: 지급된 총보수액의 12분의 1에 해당하는 금액을 지급한다.
A40: 제8조 | C40: (복무) | F40: ① | G40: 임용대상자”는 “총장”이 지정하는 기관에 근무하여야 하며, 소속기관의 연구과제에
G41: 상근으로 참여하여야 한다.
F42: ② | G42: 임용대상자”는 본교 규정 및 교원과 관련된 법 등 관계 규정을 준수하여야 한다.
F44: ③ | G44: 임용대상자”는 “총장”의 사전승인 없이 본교 및 타 기관에 임의 출강할 수 없으며,
G45: 타 기관의 연구업무를 수행해서는 아니 된다.
F46: ④ | G46: “임용대상자”는 직무와 관련하여 취득한 비밀은 임용계약기간 중 또는 임용계약기간
G47: 종료 후에도 이를 누설하여서는 아니 된다.
A48: 제9조 | C48: (연구결과의 귀속 등) | F48: ① | G48: “임용대상자”가 “총장”의 소속기관에서 복무하는 동안 발생한 연구의 결과는
G49: “총장”에 귀속한다.
F50: ② | G50: 임용계약기간 중 “임용대상자”는 자신의 명의로 연구결과를 발표할 경우 “총장”에
G51: 소속함을 명시하여야 한다.
A52: 제10조 | C52: (재임용 및 절차) | F52: ① | G52: “임용대상자”가 “총장”의 소속기관에서 복무하는 동안 발생한 연구의 결과는
G53: “총장”에 귀속한다.
F54: ② | G54: 임용계약기간 중 “임용대상자”는 자신의 명의로 연구결과를 발표할 경우 “총장”에
G55: 소속함을 명시하여야 한다.
A56: 제11조 | C56: (계약의 해지) | F56: “총장”은 “임용대상자”에게 다음 각 호의 1에 해당하는 사유가 있는 경우
F57: 임용대상자”의 임용계약을 해지할 수 있다.
F58: 1. | G58: ｢서울시립대학교 비전임교원 임용규정｣ 또는 이 계약서에서 정한 사항을 위반한 경우
F59: 2. | G59: 정당한 사유 없이 “총장” 또는 소속기관장의 지시를 거부한 경우
F60: 3. | G60: 연구 실적이 부진한 경우
F61: 4. | G61: 직무를 수행하는 데 필요한 자격증의 효력이 상실되거나 면허가 취소되어 담당 직무를
G62: 수행할 수 없게 된 경우
F63: 5. | G63: 기타 연구교수로서의 품위를 현저히 손상하거나 본교의 명예를 현저히 훼손한 경우
A64: 제12조 | C64: (기타) | F64: ① | G64: 이 계약서는 2통을 작성하여 “총장”과 “임용대상자”가 각각 1통씩 보관한다.
F65: ② | G65: 이 계약에 정함이 없는 사항은 근로기준법령에 의한다.
A67: =기본정보!F7 -> 20230301
L70: "총 장" | N70: 서울시립대학교 총장 | Q70: 원용걸 | S70: (직인)
K72: "임용대상자" | N72: 성 명 : | O72: =기본정보!F6 -> 홍길동 | S72: (인/사인)

Sheet 별첨 1(자동)
A1: [별첨 1]
A3: 연번 | B3: 연구과제 | G3: 지원기관 | K3: 참여기간 | N3: 연구책임자 | P3: 지급액
K4: 시작일 | L4: 종료일
A5: 1 | B5: =과제정보!D34 -> 1번과제 | G5: =IFERROR(VLOOKUP(B5,과제정보!D:Y,5,0),"") -> 한국연구재단 | K5: =과제정보!M34 -> 20230101 | L5: =과제정보!O34 -> 20230630 | N5: =IFERROR(VLOOKUP(B5,과제정보!D:Y,8,0),"") -> 김시립 | P5: =과제정보!P34 -> 2010580
A6: 2 | B6: =과제정보!D35 -> 2번과제 | G6: =IFERROR(VLOOKUP(B6,과제정보!D:Y,5,0),"") -> 0 | K6: =과제정보!M35 -> 20230701 | L6: =과제정보!O35 -> 20230831 | N6: =IFERROR(VLOOKUP(B6,과제정보!D:Y,8,0),"") -> 0 | P6: =과제정보!P35 -> 3000000
A7: 3 | B7: =과제정보!D36 -> 3번과제 | G7: =IFERROR(VLOOKUP(B7,과제정보!D:Y,5,0),"") -> 0 | K7: =과제정보!M36 -> 20230901 | L7: =과제정보!O36 -> 20231231 | N7: =IFERROR(VLOOKUP(B7,과제정보!D:Y,8,0),"") -> 0 | P7: =과제정보!P36 -> 2000000
A8: 4 | B8: =과제정보!D37 -> 3번과제 | G8: =IFERROR(VLOOKUP(B8,과제정보!D:Y,5,0),"") -> 0 | K8: =과제정보!M37 -> 20230901 | L8: =과제정보!O37 -> 20231231 | N8: =IFERROR(VLOOKUP(B8,과제정보!D:Y,8,0),"") -> 0 | P8: =과제정보!P37 -> 500000
A9: 5 | B9: =과제정보!D38 -> 3번과제 | G9: =IFERROR(VLOOKUP(B9,과제정보!D:Y,5,0),"") -> 0 | K9: =과제정보!M38 -> 20230901 | L9: =과제정보!O38 -> 20231231 | N9: =IFERROR(VLOOKUP(B9,과제정보!D:Y,8,0),"") -> 0 | P9: =과제정보!P38 -> 500000
A10: 6 | B10: =과제정보!D39 -> 0 | G10: =IFERROR(VLOOKUP(B10,과제정보!D:Y,5,0),"") | K10: =과제정보!M39 -> 0 | L10: =과제정보!O39 -> 0 | N10: =IFERROR(VLOOKUP(B10,과제정보!D:Y,8,0),"") | P10: =과제정보!P39 -> 0
A11: 7 | B11: =과제정보!D40 -> 0 | G11: =IFERROR(VLOOKUP(B11,과제정보!D:Y,5,0),"") | K11: =과제정보!M40 -> 0 | L11: =과제정보!O40 -> 0 | N11: =IFERROR(VLOOKUP(B11,과제정보!D:Y,8,0),"") | P11: =과제정보!P40 -> 0
A12: 8 | B12: =과제정보!D41 -> 0 | G12: =IFERROR(VLOOKUP(B12,과제정보!D:Y,5,0),"") | K12: =과제정보!M41 -> 0 | L12: =과제정보!O41 -> 0 | N12: =IFERROR(VLOOKUP(B12,과제정보!D:Y,8,0),"") | P12: =과제정보!P41 -> 0
A13: 9 | B13: =과제정보!D42 -> 0 | G13: =IFERROR(VLOOKUP(B13,과제정보!D:Y,5,0),"") | K13: =과제정보!M42 -> 0 | L13: =과제정보!O42 -> 0 | N13: =IFERROR(VLOOKUP(B13,과제정보!D:Y,8,0),"") | P13: =과제정보!P42 -> 0
A14: 10 | B14: =과제정보!D43 -> 0 | G14: =IFERROR(VLOOKUP(B14,과제정보!D:Y,5,0),"") | K14: =과제정보!M43 -> 0 | L14: =과제정보!O43 -> 0 | N14: =IFERROR(VLOOKUP(B14,과제정보!D:Y,8,0),"") | P14: =과제정보!P43 -> 0

Sheet 인건비계산(자동)
A2: 근로소득자 인건비 계산표
AA8: M
C9: 연구자이름 | D9: 참여과제명 | E9: 해당 과제 월급여 | F9: 기관부담분(월) | G9: 퇴직적립금(월) | H9: 월지급액 | I9: 참여개월수 | J9: 참여시작일 | K9: 참여종료일 | L9: 총지급액 | P9: 개인부담 보혐료율 | T9: 기관부담 보험료율
C10: =기본정보!$F$6 -> 홍길동 | D10: =과제정보!D34 -> 1번과제 | E10: =과제정보!P34 -> 2010580 | F10: =ROUND((IF(기본정보!$F$27="Y",4.5,0)+IF(기본정보!$G$27="Y",3.999,0)+IF(기본정보!$H$27="Y",1.75,0)+IF(기본정보!$J$27="Y",0.751,0))*E10/100,-1) -> 221160 | G10: =IF(기본정보!$F$28="적립",ROUND((E10/12),-1),0) -> 167550 | H10: =E10+F10+G10 -> 2399290 | I10: =IFERROR((DATEDIF(J10,K10,$AA$8))+1,"") -> 6 | J10: =MID(과제정보!M34,1,4)&"-"&MID(과제정보!M34,5,2)&"-"&MID(과제정보!M34,7,2) -> 2023-01-01 | K10: =MID(과제정보!O34,1,4)&"-"&MID(과제정보!O34,5,2)&"-"&MID(과제정보!O34,7,2) -> 2023-06-30 | L10: =IFERROR(H10*I10,"") -> 14395740 | P10: 국민 | Q10: 건강 | R10: 고용 | S10: 소계 | T10: 국민 | U10: 건강 | V10: 고용 | W10: 산재 | X10: 소계
C11: =기본정보!$F$6 -> 홍길동 | D11: =과제정보!D35 -> 2번과제 | E11: =과제정보!P35 -> 3000000 | F11: =ROUND((IF(기본정보!$F$27="Y",4.5,0)+IF(기본정보!$G$27="Y",3.999,0)+IF(기본정보!$H$27="Y",1.75,0)+IF(기본정보!$J$27="Y",0.751,0))*E11/100,-1) -> 330000 | G11: =IF(기본정보!$F$28="적립",ROUND((E11/12),-1),0) -> 250000 | H11: =E11+F11+G11 -> 3580000 | I11: =IFERROR((DATEDIF(J11,K11,$AA$8))+1,"") -> 2 | J11: =MID(과제정보!M35,1,4)&"-"&MID(과제정보!M35,5,2)&"-"&MID(과제정보!M35,7,2) -> 2023-07-01 | K11: =MID(과제정보!O35,1,4)&"-"&MID(과제정보!O35,5,2)&"-"&MID(과제정보!O35,7,2) -> 2023-08-31 | L11: =IFERROR(H11*I11,"") -> 7160000 | P11: 0.045 | Q11: 0.03999 | R11: 0.009 | S11: =P11+R11+Q11 -> 0.09399 | T11: =P11 -> 0.045 | U11: 0.03999 | V11: 0.0175 | W11: 0.00751 | X11: =T11+U11+V11+W11 -> 0.11
C12: =기본정보!$F$6 -> 홍길동 | D12: =과제정보!D36 -> 3번과제 | E12: =과제정보!P36 -> 2000000 | F12: =ROUND((IF(기본정보!$F$27="Y",4.5,0)+IF(기본정보!$G$27="Y",3.999,0)+IF(기본정보!$H$27="Y",1.75,0)+IF(기본정보!$J$27="Y",0.751,0))*E12/100,-1) -> 220000 | G12: =IF(기본정보!$F$28="적립",ROUND((E12/12),-1),0) -> 166670 | H12: =E12+F12+G12 -> 2386670 | I12: =IFERROR((DATEDIF(J12,K12,$AA$8))+1,"") -> 4 | J12: =MID(과제정보!M36,1,4)&"-"&MID(과제정보!M36,5,2)&"-"&MID(과제정보!M36,7,2) -> 2023-09-01 | K12: =MID(과제정보!O36,1,4)&"-"&MID(과제정보!O36,5,2)&"-"&MID(과제정보!O36,7,2) -> 2023-12-31 | L12: =IFERROR(H12*I12,"") -> 9546680
C13: =기본정보!$F$6 -> 홍길동 | D13: =과제정보!D37 -> 3번과제 | E13: =과제정보!P37 -> 500000 | F13: =ROUND((IF(기본정보!$F$27="Y",4.5,0)+IF(기본정보!$G$27="Y",3.999,0)+IF(기본정보!$H$27="Y",1.75,0)+IF(기본정보!$J$27="Y",0.751,0))*E13/100,-1) -> 55000 | G13: =IF(기본정보!$F$28="적립",ROUND((E13/12),-1),0) -> 41670 | H13: =E13+F13+G13 -> 596670 | I13: =IFERROR((DATEDIF(J13,K13,$AA$8))+1,"") -> 4 | J13: =MID(과제정보!M37,1,4)&"-"&MID(과제정보!M37,5,2)&"-"&MID(과제정보!M37,7,2) -> 2023-09-01 | K13: =MID(과제정보!O37,1,4)&"-"&MID(과제정보!O37,5,2)&"-"&MID(과제정보!O37,7,2) -> 2023-12-31 | L13: =IFERROR(H13*I13,"") -> 2386680
C14: =기본정보!$F$6 -> 홍길동 | D14: =과제정보!D38 -> 3번과제 | E14: =과제정보!P38 -> 500000 | F14: =ROUND((IF(기본정보!$F$27="Y",4.5,0)+IF(기본정보!$G$27="Y",3.999,0)+IF(기본정보!$H$27="Y",1.75,0)+IF(기본정보!$J$27="Y",0.751,0))*E14/100,-1) -> 55000 | G14: =IF(기본정보!$F$28="적립",ROUND((E14/12),-1),0) -> 41670 | H14: =E14+F14+G14 -> 596670 | I14: =IFERROR((DATEDIF(J14,K14,$AA$8))+1,"") -> 4 | J14: =MID(과제정보!M38,1,4)&"-"&MID(과제정보!M38,5,2)&"-"&MID(과제정보!M38,7,2) -> 2023-09-01 | K14: =MID(과제정보!O38,1,4)&"-"&MID(과제정보!O38,5,2)&"-"&MID(과제정보!O38,7,2) -> 2023-12-31 | L14: =IFERROR(H14*I14,"") -> 2386680
C15: =기본정보!$F$6 -> 홍길동 | D15: =과제정보!D39 -> 0 | E15: =과제정보!P39 -> 0 | F15: =ROUND((IF(기본정보!$F$27="Y",4.5,0)+IF(기본정보!$G$27="Y",3.999,0)+IF(기본정보!$H$27="Y",1.75,0)+IF(기본정보!$J$27="Y",0.751,0))*E15/100,-1) -> 0 | G15: =IF(기본정보!$F$28="적립",ROUND((E15/12),-1),0) -> 0 | H15: =E15+F15+G15 -> 0 | I15: =IFERROR((DATEDIF(J15,K15,$AA$8))+1,"") | J15: =MID(과제정보!M39,1,4)&"-"&MID(과제정보!M39,5,2)&"-"&MID(과제정보!M39,7,2) -> -- | K15: =MID(과제정보!O39,1,4)&"-"&MID(과제정보!O39,5,2)&"-"&MID(과제정보!O39,7,2) -> -- | L15: =IFERROR(H15*I15,"")
C16: =기본정보!$F$6 -> 홍길동 | D16: =과제정보!D40 -> 0 | E16: =과제정보!P40 -> 0 | F16: =ROUND((IF(기본정보!$F$27="Y",4.5,0)+IF(기본정보!$G$27="Y",3.999,0)+IF(기본정보!$H$27="Y",1.75,0)+IF(기본정보!$J$27="Y",0.751,0))*E16/100,-1) -> 0 | G16: =IF(기본정보!$F$28="적립",ROUND((E16/12),-1),0) -> 0 | H16: =E16+F16+G16 -> 0 | I16: =IFERROR((DATEDIF(J16,K16,$AA$8))+1,"") | J16: =MID(과제정보!M40,1,4)&"-"&MID(과제정보!M40,5,2)&"-"&MID(과제정보!M40,7,2) -> -- | K16: =MID(과제정보!O40,1,4)&"-"&MID(과제정보!O40,5,2)&"-"&MID(과제정보!O40,7,2) -> -- | L16: =IFERROR(H16*I16,"")
C17: =기본정보!$F$6 -> 홍길동 | D17: =과제정보!D41 -> 0 | E17: =과제정보!P41 -> 0 | F17: =ROUND((IF(기본정보!$F$27="Y",4.5,0)+IF(기본정보!$G$27="Y",3.999,0)+IF(기본정보!$H$27="Y",1.75,0)+IF(기본정보!$J$27="Y",0.751,0))*E17/100,-1) -> 0 | G17: =IF(기본정보!$F$28="적립",ROUND((E17/12),-1),0) -> 0 | H17: =E17+F17+G17 -> 0 | I17: =IFERROR((DATEDIF(J17,K17,$AA$8))+1,"") | J17: =MID(과제정보!M41,1,4)&"-"&MID(과제정보!M41,5,2)&"-"&MID(과제정보!M41,7,2) -> -- | K17: =MID(과제정보!O41,1,4)&"-"&MID(과제정보!O41,5,2)&"-"&MID(과제정보!O41,7,2) -> -- | L17: =IFERROR(H17*I17,"")
C18: =기본정보!$F$6 -> 홍길동 | D18: =과제정보!D42 -> 0 | E18: =과제정보!P42 -> 0 | F18: =ROUND((IF(기본정보!$F$27="Y",4.5,0)+IF(기본정보!$G$27="Y",3.999,0)+IF(기본정보!$H$27="Y",1.75,0)+IF(기본정보!$J$27="Y",0.751,0))*E18/100,-1) -> 0 | G18: =IF(기본정보!$F$28="적립",ROUND((E18/12),-1),0) -> 0 | H18: =E18+F18+G18 -> 0 | I18: =IFERROR((DATEDIF(J18,K18,$AA$8))+1,"") | J18: =MID(과제정보!M42,1,4)&"-"&MID(과제정보!M42,5,2)&"-"&MID(과제정보!M42,7,2) -> -- | K18: =MID(과제정보!O42,1,4)&"-"&MID(과제정보!O42,5,2)&"-"&MID(과제정보!O42,7,2) -> -- | L18: =IFERROR(H18*I18,"")
C19: =기본정보!$F$6 -> 홍길동 | D19: =과제정보!D43 -> 0 | E19: =과제정보!P43 -> 0 | F19: =ROUND((IF(기본정보!$F$27="Y",4.5,0)+IF(기본정보!$G$27="Y",3.999,0)+IF(기본정보!$H$27="Y",1.75,0)+IF(기본정보!$J$27="Y",0.751,0))*E19/100,-1) -> 0 | G19: =IF(기본정보!$F$28="적립",ROUND((E19/12),-1),0) -> 0 | H19: =E19+F19+G19 -> 0 | I19: =IFERROR((DATEDIF(J19,K19,$AA$8))+1,"") | J19: =MID(과제정보!M43,1,4)&"-"&MID(과제정보!M43,5,2)&"-"&MID(과제정보!M43,7,2) -> -- | K19: =MID(과제정보!O43,1,4)&"-"&MID(과제정보!O43,5,2)&"-"&MID(과제정보!O43,7,2) -> -- | L19: =IFERROR(H19*I19,"")
C20: =기본정보!$F$6 -> 홍길동 | D20: =과제정보!D44 -> 0 | E20: =과제정보!P44 -> 0 | F20: =ROUND((IF(기본정보!$F$27="Y",4.5,0)+IF(기본정보!$G$27="Y",3.999,0)+IF(기본정보!$H$27="Y",1.75,0)+IF(기본정보!$J$27="Y",0.751,0))*E20/100,-1) -> 0 | G20: =IF(기본정보!$F$28="적립",ROUND((E20/12),-1),0) -> 0 | H20: =E20+F20+G20 -> 0 | I20: =IFERROR((DATEDIF(J20,K20,$AA$8))+1,"") | J20: =MID(과제정보!M44,1,4)&"-"&MID(과제정보!M44,5,2)&"-"&MID(과제정보!M44,7,2) -> -- | K20: =MID(과제정보!O44,1,4)&"-"&MID(과제정보!O44,5,2)&"-"&MID(과제정보!O44,7,2) -> -- | L20: =IFERROR(H20*I20,"")
C21: =기본정보!$F$6 -> 홍길동 | D21: =과제정보!D45 -> 0 | E21: =과제정보!P45 -> 0 | F21: =ROUND((IF(기본정보!$F$27="Y",4.5,0)+IF(기본정보!$G$27="Y",3.999,0)+IF(기본정보!$H$27="Y",1.75,0)+IF(기본정보!$J$27="Y",0.751,0))*E21/100,-1) -> 0 | G21: =IF(기본정보!$F$28="적립",ROUND((E21/12),-1),0) -> 0 | H21: =E21+F21+G21 -> 0 | I21: =IFERROR((DATEDIF(J21,K21,$AA$8))+1,"") | J21: =MID(과제정보!M45,1,4)&"-"&MID(과제정보!M45,5,2)&"-"&MID(과제정보!M45,7,2) -> -- | K21: =MID(과제정보!O45,1,4)&"-"&MID(과제정보!O45,5,2)&"-"&MID(과제정보!O45,7,2) -> -- | L21: =IFERROR(H21*I21,"")
C22: =기본정보!$F$6 -> 홍길동 | D22: =과제정보!D46 -> 0 | E22: =과제정보!P46 -> 0 | F22: =ROUND((IF(기본정보!$F$27="Y",4.5,0)+IF(기본정보!$G$27="Y",3.999,0)+IF(기본정보!$H$27="Y",1.75,0)+IF(기본정보!$J$27="Y",0.751,0))*E22/100,-1) -> 0 | G22: =IF(기본정보!$F$28="적립",ROUND((E22/12),-1),0) -> 0 | H22: =E22+F22+G22 -> 0 | I22: =IFERROR((DATEDIF(J22,K22,$AA$8))+1,"") | J22: =MID(과제정보!M46,1,4)&"-"&MID(과제정보!M46,5,2)&"-"&MID(과제정보!M46,7,2) -> -- | K22: =MID(과제정보!O46,1,4)&"-"&MID(과제정보!O46,5,2)&"-"&MID(과제정보!O46,7,2) -> -- | L22: =IFERROR(H22*I22,"")
C23: =기본정보!$F$6 -> 홍길동 | D23: =과제정보!D47 -> 0 | E23: =과제정보!P47 -> 0 | F23: =ROUND((IF(기본정보!$F$27="Y",4.5,0)+IF(기본정보!$G$27="Y",3.999,0)+IF(기본정보!$H$27="Y",1.75,0)+IF(기본정보!$J$27="Y",0.751,0))*E23/100,-1) -> 0 | G23: =IF(기본정보!$F$28="적립",ROUND((E23/12),-1),0) -> 0 | H23: =E23+F23+G23 -> 0 | I23: =IFERROR((DATEDIF(J23,K23,$AA$8))+1,"") | J23: =MID(과제정보!M47,1,4)&"-"&MID(과제정보!M47,5,2)&"-"&MID(과제정보!M47,7,2) -> -- | K23: =MID(과제정보!O47,1,4)&"-"&MID(과제정보!O47,5,2)&"-"&MID(과제정보!O47,7,2) -> -- | L23: =IFERROR(H23*I23,"")
C24: =기본정보!$F$6 -> 홍길동 | D24: =과제정보!D48 -> 0 | E24: =과제정보!P48 -> 0 | F24: =ROUND((IF(기본정보!$F$27="Y",4.5,0)+IF(기본정보!$G$27="Y",3.999,0)+IF(기본정보!$H$27="Y",1.75,0)+IF(기본정보!$J$27="Y",0.751,0))*E24/100,-1) -> 0 | G24: =IF(기본정보!$F$28="적립",ROUND((E24/12),-1),0) -> 0 | H24: =E24+F24+G24 -> 0 | I24: =IFERROR((DATEDIF(J24,K24,$AA$8))+1,"") | J24: =MID(과제정보!M48,1,4)&"-"&MID(과제정보!M48,5,2)&"-"&MID(과제정보!M48,7,2) -> -- | K24: =MID(과제정보!O48,1,4)&"-"&MID(과제정보!O48,5,2)&"-"&MID(과제정보!O48,7,2) -> -- | L24: =IFERROR(H24*I24,"")
C25: 합계 | F25: =SUM(F10:F24) -> 881160 | G25: =SUM(G10:G24) -> 667560 | H25: =SUM(H10:H24) -> 9559300 | L25: =SUM(L10:L24) -> 35875780

Sheet 월인건비(목표값)
B3: 월 인건비 목표값 찾기
C6: [입력방법 Guide]
C7: ① 지급가능한 인건비 예산을 입력하면 월별 편성금액을 산출합니다. ② 편성가능 예산액, 참여개월수, 퇴직금 적립 여부를 입력하면 월급여가 자동 산출됩니다.
C13: 편성가능 예산액 | D13: 50000000
C14: 참여개월수 | D14: 12
C15: 퇴직금 적립 선택 | D15: Y
C17: 월급여 | D17: 기관부담분(월) | E17: 퇴직적립금(월) | F17: 월지급액 | G17: 참여개월수 | H17: 산출예산액
C18: =IF(D15="Y",ROUNDDOWN((D13/D14)-((D13/D14)/6.17199),-1),ROUNDDOWN((D13/D14)-((D13/D14)/10.09),-1)) -> 3491570 | D18: =ROUND((C18*11%),-1) -> 384070 | E18: =IF(D15="Y",ROUND((C18/12),-1),0) -> 290960 | F18: =C18+D18+E18 -> 4166600 | G18: =D14 -> 12 | H18: =F18*G18 -> 49999200

Sheet 개인수령액(시뮬레이션)
C3: 인건비 실수령액 모의계산
C5: 실제 지급액과 다소 차이가 있을수 있이며, 근로시간과, 월급여를 입력하면 나머지는 자동으로 계산됩니다. (기본정보를 입력했다면 자동계산됩니다/기본정보를 입력하지 않았다면 노란색 필드를 입력하세요)
C7: 구분 | D7: 구분 | E7: 내역 | G7: 비고
C8: 근로계약서상 주당 근로시간 | E8: =기본정보!F25 -> 40 | F8: 시간 | G8: 외국인의 경우 국적에 따란 국민연금 가입이 선택적으로 처리되며 고용보험은 임의가입으로 대부분 가입하지 않습니다.
C9: 근로계약서상 월 급여 | E9: =과제정보!G8 -> 2010580 | F9: 원
C10: 국민연금 | D10: =기본정보!F27 -> Y | E10: =IF(AND(D10="Y",E8>14.99),ROUNDDOWN((E9*4.5%),-1),0) -> 90470 | F10: 원
C11: 건강보험 | D11: =기본정보!G27 -> Y | E11: =IF(AND(D11="Y",E8>14.99),ROUNDDOWN((E9*3.545%),-1),0) -> 71270 | F11: 원
C12: 장기요양보험 | D12: =D11 -> Y | E12: =IF(AND(D12="Y",E8>14.99),ROUNDDOWN((E11*12.81%),-1),0) -> 9120 | F12: 원
C13: 고용보험 | D13: =기본정보!H27 -> Y | E13: =IF(D13="Y",ROUNDDOWN((E9*0.9%),-1),0) -> 18090 | F13: 일
C14: 소득세 | E14: =IF(E9>770000,VLOOKUP(E9/1000,간이세액표!$A5:$C651,3),0) -> 19850 | F14: 원
C15: 주민세 | E15: =ROUNDDOWN((E14*10%),-1) -> 1980 | F15: 일
C16: 공제액합계 | E16: =SUM(E10:E15) -> 210780 | F16: 원
C17: 차인지급액(실수령액) | E17: =E9-E16 -> 1799800 | F17: 원

Sheet 계산
A1: M
A2: =MID(과제정보!D8,1,4)&"-"&MID(과제정보!D8,5,2)&"-"&MID(과제정보!D8,7,2) -> 2023-01-01 | B2: =MID(과제정보!E8,1,4)&"-"&MID(과제정보!E8,5,2)&"-"&MID(과제정보!E8,7,2) -> 2023-06-30 | D2: =IFERROR(IF((DATEDIF(A2,B2,$A$1)+1)>1,(DATEDIF(A2,B2,$A$1))+1,0),0) -> 6 | F2: =과제정보!G8*D2 -> 12063480
A3: =MID(과제정보!D9,1,4)&"-"&MID(과제정보!D9,5,2)&"-"&MID(과제정보!D9,7,2) -> 2023-07-01 | B3: =MID(과제정보!E9,1,4)&"-"&MID(과제정보!E9,5,2)&"-"&MID(과제정보!E9,7,2) -> 2023-12-31 | D3: =IFERROR(IF((DATEDIF(A3,B3,$A$1)+1)>1,(DATEDIF(A3,B3,$A$1))+1,0),0) -> 6 | F3: =과제정보!G9*D3 -> 18000000
A4: =MID(과제정보!D10,1,4)&"-"&MID(과제정보!D10,5,2)&"-"&MID(과제정보!D10,7,2) -> -- | B4: =MID(과제정보!E10,1,4)&"-"&MID(과제정보!E10,5,2)&"-"&MID(과제정보!E10,7,2) -> -- | D4: =IFERROR(IF((DATEDIF(A4,B4,$A$1)+1)>1,(DATEDIF(A4,B4,$A$1))+1,0),0) -> 0 | F4: =과제정보!G10*D4 -> 0
A5: =MID(과제정보!D11,1,4)&"-"&MID(과제정보!D11,5,2)&"-"&MID(과제정보!D11,7,2) -> -- | B5: =MID(과제정보!E11,1,4)&"-"&MID(과제정보!E11,5,2)&"-"&MID(과제정보!E11,7,2) -> -- | D5: =IFERROR(IF((DATEDIF(A5,B5,$A$1)+1)>1,(DATEDIF(A5,B5,$A$1))+1,0),0) -> 0 | F5: =과제정보!G11*D5 -> 0
A6: =MID(과제정보!D12,1,4)&"-"&MID(과제정보!D12,5,2)&"-"&MID(과제정보!D12,7,2) -> -- | B6: =MID(과제정보!E12,1,4)&"-"&MID(과제정보!E12,5,2)&"-"&MID(과제정보!E12,7,2) -> -- | D6: =IFERROR(IF((DATEDIF(A6,B6,$A$1)+1)>1,(DATEDIF(A6,B6,$A$1))+1,0),0) -> 0 | F6: =과제정보!G12*D6 -> 0
A7: =MID(과제정보!D13,1,4)&"-"&MID(과제정보!D13,5,2)&"-"&MID(과제정보!D13,7,2) -> -- | B7: =MID(과제정보!E13,1,4)&"-"&MID(과제정보!E13,5,2)&"-"&MID(과제정보!E13,7,2) -> -- | D7: =IFERROR(IF((DATEDIF(A7,B7,$A$1)+1)>1,(DATEDIF(A7,B7,$A$1))+1,0),0) -> 0 | F7: =과제정보!G13*D7 -> 0
A8: =MID(과제정보!D14,1,4)&"-"&MID(과제정보!D14,5,2)&"-"&MID(과제정보!D14,7,2) -> -- | B8: =MID(과제정보!E14,1,4)&"-"&MID(과제정보!E14,5,2)&"-"&MID(과제정보!E14,7,2) -> -- | D8: =IFERROR(IF((DATEDIF(A8,B8,$A$1)+1)>1,(DATEDIF(A8,B8,$A$1))+1,0),0) -> 0 | F8: =과제정보!G14*D8 -> 0
A9: =MID(과제정보!D15,1,4)&"-"&MID(과제정보!D15,5,2)&"-"&MID(과제정보!D15,7,2) -> -- | B9: =MID(과제정보!E15,1,4)&"-"&MID(과제정보!E15,5,2)&"-"&MID(과제정보!E15,7,2) -> -- | D9: =IFERROR(IF((DATEDIF(A9,B9,$A$1)+1)>1,(DATEDIF(A9,B9,$A$1))+1,0),0) -> 0 | F9: =과제정보!G15*D9 -> 0
B21: 근로시간
A22: =MID(기본정보!F18,1,2)&":"&MID(기본정보!I18,1,2) -> 09:00
A23: =MID(기본정보!F19,1,2)&":"&MID(기본정보!I19,1,2) -> 18:00
A24: =MID(기본정보!F20,1,2)&":"&MID(기본정보!I20,1,2) -> 12:00
A25: =MID(기본정보!F21,1,2)&":"&MID(기본정보!I21,1,2) -> 13:00 | B25: =(A23-A22)-(A25-A24) -> 0.33333333
A26: =COUNTIF(기본정보!F23:K23,"=Y") -> 5 | B26: =A26*B25*24 -> 40 | C26: =IF(B26>=15,B25*A26/40*8,0)*24 -> 8 | D26: =B26+C26 -> 48 | E26: =ROUND(((D26/7)*365)/12,0)*9620 -> 2010580
A28: =기본정보!F10 -> 1992-12-25 | B28: 나이계산
A29: =MID(기본정보!F16,1,4)&"-"&MID(기본정보!F16,5,2)&"-"&MID(기본정보!F16,7,2) -> 2023-01-01 | B29: =ROUNDDOWN((A29-A28)/365,0) -> 30
A31: M | B31: 근로기간
A32: =MID(기본정보!F16,1,4)&"-"&MID(기본정보!F16,5,2)&"-"&MID(기본정보!F16,7,2) -> 2023-01-01
A33: =MID(기본정보!F17,1,4)&"-"&MID(기본정보!F17,5,2)&"-"&MID(기본정보!F17,7,2) -> 2024-12-31 | B33: =(DATEDIF(A32,A33,$A$31))+1 -> 24

Sheet 최저임금검증
B2: 인건비 모의 계산 (2023년) (최저임금 검증)
B5: 초록색 색칠된 칸에 일 근로시간과 근로일수 입력하시면 자동 계산됩니다.
B7: 구분 | D7: 단위 | E7: 비고
B8: 근로계약서상 소정 일 근로시간 | C8: =(기본정보!F25)/C9 -> 8 | D8: 시간
B9: 근로계약서상 소정 주 근로일수 | C9: =계산!A26 -> 5 | D9: 일
B10: 근로계약서상 소정 주 근로시간 | C10: =C8*C9 -> 40 | D10: 시간
B11: 주 유급휴무수당시간 | C11: =IF(C10>=15,C8*C9/40*8,0) -> 8 | D11: 시간 | E11: 1주 15시간 미만 근로자는 주휴일 적용 제외
B12: 주 유급근로시간 | C12: =C10+C11 -> 48 | D12: 시간
B13: 1주일 | C13: 7 | D13: 일
B14: 일 유급근로시간 | C14: =C12/C13 -> 6.8571429 | D14: 시간
B15: 1년 | C15: 365 | D15: 일
B16: 연 유급근로시간 | C16: =C15*C14 -> 2502.8571 | D16: 시간
B17: 12개월 | C17: 12 | D17: 개월
B18: 법정 월 소정근로시간 | C18: =C16/C17 -> 208.57143 | D18: 시간
B19: 법정 월 소정근로시간(반올림) | C19: =ROUND(C16/C17,0) -> 209 | D19: 시간
B20: 2023년 시급 | C20: 9620 | D20: 원 | E20: 2023년 최저임금 시급 9,620원
B21: 2023년 법정 최저임금 급여 (세전) | C21: =C19*C20 -> 2010580 | D21: 원 | E21: 이 금액보다 근로계약서 월지급액 작다면 최저임금위반
B23: <관련법령>
B24: 근로기준법 제55조(휴일) 사용자는 근로자에게 1주일에 평균 1회 이상의 유급휴일을 주어야 한다.
B26: 근로기준법 시행령 제30조(주휴일) 법 제55조에 따른 유급휴일은 1주 동안의 소정근로일을 개근한 자에게 주어야 한다.
B28: 근로기준법 제18조(단시간근로자의 근로조건)
B29: ① 단시간근로자의 근로조건은 그 사업장의 같은 종류의 업무에 종사하는 통상 근로자의 근로시간을 기준으로
B30: 산정한 비율에 따라 결정되어야 한다.
B31: ② 제1항에 따라 근로조건을 결정할 때에 기준이 되는 사항이나 그 밖에 필요한 사항은 대통령령으로 정한다.
B32: ③ 4주 동안(4주 미만으로 근로하는 경우에는 그 기간)을 평균하여 1주 동안의 소정근로시간이 15시간 미만인
B33: 근로자에 대하여는 제55조와 제60조를 적용하지 아니한다.

Sheet 간이세액표
A1: 2023년 근로소득 간이세액표(제189조 관련)
A2: (단위: 원)
A3: 월급여액(천원) | C3: 공제대상가족의 수
A4: [비과세 및 학자금 제외］ | C4: 1 | D4: 2 | E4: 3 | F4: 4 | G4: 5 | H4: 6 | I4: 7 | J4: 8 | K4: 9 | L4: 10 | M4: 11
A5: 이상 | B5: 미만
A6: 770 | B6: 775 | C6: 0 | D6: 0 | E6: 0 | F6: 0 | G6: 0 | H6: 0 | I6: 0 | J6: 0 | K6: 0 | L6: 0 | M6: 0
A7: 775 | B7: 780 | C7: 0 | D7: 0 | E7: 0 | F7: 0 | G7: 0 | H7: 0 | I7: 0 | J7: 0 | K7: 0 | L7: 0 | M7: 0
A8: 780 | B8: 785 | C8: 0 | D8: 0 | E8: 0 | F8: 0 | G8: 0 | H8: 0 | I8: 0 | J8: 0 | K8: 0 | L8: 0 | M8: 0
A9: 785 | B9: 790 | C9: 0 | D9: 0 | E9: 0 | F9: 0 | G9: 0 | H9: 0 | I9: 0 | J9: 0 | K9: 0 | L9: 0 | M9: 0
A10: 790 | B10: 795 | C10: 0 | D10: 0 | E10: 0 | F10: 0 | G10: 0 | H10: 0 | I10: 0 | J10: 0 | K10: 0 | L10: 0 | M10: 0
A11: 795 | B11: 800 | C11: 0 | D11: 0 | E11: 0 | F11: 0 | G11: 0 | H11: 0 | I11: 0 | J11: 0 | K11: 0 | L11: 0 | M11: 0
A12: 800 | B12: 805 | C12: 0 | D12: 0 | E12: 0 | F12: 0 | G12: 0 | H12: 0 | I12: 0 | J12: 0 | K12: 0 | L12: 0 | M12: 0
A13: 805 | B13: 810 | C13: 0 | D13: 0 | E13: 0 | F13: 0 | G13: 0 | H13: 0 | I13: 0 | J13: 0 | K13: 0 | L13: 0 | M13: 0
A14: 810 | B14: 815 | C14: 0 | D14: 0 | E14: 0 | F14: 0 | G14: 0 | H14: 0 | I14: 0 | J14: 0 | K14: 0 | L14: 0 | M14: 0
A15: 815 | B15: 820 | C15: 0 | D15: 0 | E15: 0 | F15: 0 | G15: 0 | H15: 0 | I15: 0 | J15: 0 | K15: 0 | L15: 0 | M15: 0
A16: 820 | B16: 825 | C16: 0 | D16: 0 | E16: 0 | F16: 0 | G16: 0 | H16: 0 | I16: 0 | J16: 0 | K16: 0 | L16: 0 | M16: 0
A17: 825 | B17: 830 | C17: 0 | D17: 0 | E17: 0 | F17: 0 | G17: 0 | H17: 0 | I17: 0 | J17: 0 | K17: 0 | L17: 0 | M17: 0
... A652: 10000 | B652: 10000 | C652: 1507400 | D652: 1431570 | E652: 1200840 | F652: 1170840 | G652: 1140840 | H652: 1110840 | I652: 1080840 | J652: 1050840 | K652: 1020840 | L652: 990840 | M652: 960840
A653: 10,000원초과 14,000원 이하 | C653: (10,000,000원인 경우의 해당 세액) + (10,000,000원을 초과하는 금액 중 98%를 곱한 금액의 35% 상당액) + (25,000원)
A654: 14,000천원 초과 28,000천원 이하 | C654: (1천만원인 경우의 해당세액) + (1,397,000원) + (14,000천원을 초과하는 금액 중 98퍼센트를 곱한 금액의 38퍼센트 상당액)
A656: 28,000천원 초과 30,000천원 이하 | C656: (10,000천원인 경우의 해당세액) + (6,610,600원) + (28,000천원을 초과하는 금액에 98퍼센트를 곱한 금액의 40퍼센트 상당액)
A658: 30,000천원 초과 45,000천원 이하 | C658: (10,000천원인 경우의 해당세액) + (7,394,600원) + (30,000천원을 초과하는 금액의 40퍼센트 상당액)
A660: 45,000천원 초과 87,000천원 이하 | C660: (10,000천원인 경우의 해당세액) + (13,394,600원) + (45,000천원을 초과하는 금액의 42퍼센트 상당액)
A662: 87,000천원 초과 | C662: (10,000천원인 경우의 해당세액) + (31,034,600원) + (87,000천원을 초과하는 금액의 45퍼센트 상당액)

Sheet 종류
A1: 직위 | B1: 연구교수 임용계약서 | D1: 주휴일 | E1: 토요일 | G1: 상여금 | H1: 있음(○) | J1: 4대보험 | K1: Y | L1: ■ | M1: 계약서종류 | N1: 부설연구소 연구자 ■ㆍ연구근접비원인력 □ 활용계획서 | P1: 직위 | Q1: 연구교수 | S1: ■ 공동연구 | U1: 퇴직금 | V1: 적립 | X1: 시간 | Y1: 01시 | Z1: 00분 | AA1: 구분 | AB1: 내국인 | AD1: 연구교수 활용계획서
B2: 박사후연구원(Post Doc.) 임용계약서 | E2: 일요일 | H2: 없음(X) | K2: N | L2: □ | N2: 부설연구소 연구자 □ㆍ연구근접비원인력 ■ 활용계획서 | Q2: 박사후연구원 | S2: ■ 연구지원 | V2: 적립안함 | Y2: 02시 | Z2: 01분 | AB2: 외국인 | AD2: 박사후연구원 활용계획서
Y3: 03시 | Z3: 02분
Y4: 04시 | Z4: 03분
Y5: 05시 | Z5: 04분
Y6: 06시 | Z6: 05분
Y7: 07시 | Z7: 06분
Y8: 08시 | Z8: 07분
Y9: 09시 | Z9: 08분
Y10: 10시 | Z10: 09분
Y11: 11시 | Z11: 10분
Y12: 12시 | Z12: 11분
Y13: 13시 | Z13: 12분
Y14: 14시 | Z14: 13분
... Y24: 24시 | Z24: 23분
Z25: 24분
Z26: 25분
Z27: 26분
Z28: 27분
Z29: 28분
Z30: 29분
Z31: 30분
Z32: 31분
Z33: 32분
Z34: 33분
Z35: 34분
Z36: 35분
... Z61: 60분
